BEGIN:VCALENDAR
VERSION:2.0
PRODID:-//SKY Academy Englewood - ECPv6.14.1//NONSGML v1.0//EN
CALSCALE:GREGORIAN
METHOD:PUBLISH
X-WR-CALNAME:SKY Academy Englewood
X-ORIGINAL-URL:https://portholepreview.com/schools/englewood
X-WR-CALDESC:Events for SKY Academy Englewood
REFRESH-INTERVAL;VALUE=DURATION:PT1H
X-Robots-Tag:noindex
X-PUBLISHED-TTL:PT1H
BEGIN:VTIMEZONE
TZID:America/New_York
BEGIN:DAYLIGHT
TZOFFSETFROM:-0500
TZOFFSETTO:-0400
TZNAME:EDT
DTSTART:20260308T070000
END:DAYLIGHT
BEGIN:STANDARD
TZOFFSETFROM:-0400
TZOFFSETTO:-0500
TZNAME:EST
DTSTART:20261101T060000
END:STANDARD
END:VTIMEZONE
BEGIN:VEVENT
DTSTART;TZID=America/New_York:20260216T000000
DTEND;TZID=America/New_York:20260217T000000
DTSTAMP:20260425T112725
CREATED:20250720T161452Z
LAST-MODIFIED:20250720T161452Z
UID:3886-1771200000-1771286400@portholepreview.com
SUMMARY:Presidents Day - No School
DESCRIPTION:
URL:https://portholepreview.com/schools/englewood/event/presidents-day-no-school/
END:VEVENT
BEGIN:VEVENT
DTSTART;TZID=America/New_York:20260313T000000
DTEND;TZID=America/New_York:20260314T000000
DTSTAMP:20260425T112725
CREATED:20250720T161506Z
LAST-MODIFIED:20250720T161506Z
UID:3887-1773360000-1773446400@portholepreview.com
SUMMARY:End of the 3rd Quarter
DESCRIPTION:
URL:https://portholepreview.com/schools/englewood/event/end-of-the-3rd-quarter/
END:VEVENT
BEGIN:VEVENT
DTSTART;TZID=America/New_York:20260316T000000
DTEND;TZID=America/New_York:20260321T000000
DTSTAMP:20260425T112725
CREATED:20250720T161507Z
LAST-MODIFIED:20250720T161507Z
UID:3888-1773619200-1774051200@portholepreview.com
SUMMARY:Spring Break - No School
DESCRIPTION:
URL:https://portholepreview.com/schools/englewood/event/spring-break-no-school/
END:VEVENT
BEGIN:VEVENT
DTSTART;TZID=America/New_York:20260323T000000
DTEND;TZID=America/New_York:20260324T000000
DTSTAMP:20260425T112725
CREATED:20250720T161507Z
LAST-MODIFIED:20250720T161507Z
UID:3889-1774224000-1774310400@portholepreview.com
SUMMARY:Professional Day - No School
DESCRIPTION:
URL:https://portholepreview.com/schools/englewood/event/professional-day-no-school-3/
END:VEVENT
BEGIN:VEVENT
DTSTART;TZID=America/New_York:20260403T000000
DTEND;TZID=America/New_York:20260404T000000
DTSTAMP:20260425T112725
CREATED:20250720T161507Z
LAST-MODIFIED:20250720T161507Z
UID:3890-1775174400-1775260800@portholepreview.com
SUMMARY:Mini Break - No School
DESCRIPTION:
URL:https://portholepreview.com/schools/englewood/event/mini-break-no-school/
END:VEVENT
BEGIN:VEVENT
DTSTART;TZID=America/New_York:20260408T000000
DTEND;TZID=America/New_York:20260411T000000
DTSTAMP:20260425T112725
CREATED:20250720T161507Z
LAST-MODIFIED:20250720T161507Z
UID:3891-1775606400-1775865600@portholepreview.com
SUMMARY:7th Grade MarineLab Trip
DESCRIPTION:
URL:https://portholepreview.com/schools/englewood/event/7th-grade-marinelab-trip/
END:VEVENT
BEGIN:VEVENT
DTSTART;TZID=America/New_York:20260525T000000
DTEND;TZID=America/New_York:20260526T000000
DTSTAMP:20260425T112725
CREATED:20250720T161521Z
LAST-MODIFIED:20250720T161521Z
UID:3892-1779667200-1779753600@portholepreview.com
SUMMARY:Memorial Day - No School
DESCRIPTION:
URL:https://portholepreview.com/schools/englewood/event/memorial-day-no-school/
END:VEVENT
BEGIN:VEVENT
DTSTART;TZID=America/New_York:20260527T000000
DTEND;TZID=America/New_York:20260528T000000
DTSTAMP:20260425T112725
CREATED:20250720T161522Z
LAST-MODIFIED:20250720T161522Z
UID:3893-1779840000-1779926400@portholepreview.com
SUMMARY:Last Day of School for Students
DESCRIPTION:
URL:https://portholepreview.com/schools/englewood/event/last-day-of-school-for-students/
END:VEVENT
END:VCALENDAR