BEGIN:VCALENDAR
VERSION:2.0
PRODID:-//SKY Academy Englewood - ECPv6.14.1//NONSGML v1.0//EN
CALSCALE:GREGORIAN
METHOD:PUBLISH
X-WR-CALNAME:SKY Academy Englewood
X-ORIGINAL-URL:https://portholepreview.com/schools/englewood
X-WR-CALDESC:Events for SKY Academy Englewood
REFRESH-INTERVAL;VALUE=DURATION:PT1H
X-Robots-Tag:noindex
X-PUBLISHED-TTL:PT1H
BEGIN:VTIMEZONE
TZID:America/New_York
BEGIN:DAYLIGHT
TZOFFSETFROM:-0500
TZOFFSETTO:-0400
TZNAME:EDT
DTSTART:20250309T070000
END:DAYLIGHT
BEGIN:STANDARD
TZOFFSETFROM:-0400
TZOFFSETTO:-0500
TZNAME:EST
DTSTART:20251102T060000
END:STANDARD
BEGIN:DAYLIGHT
TZOFFSETFROM:-0500
TZOFFSETTO:-0400
TZNAME:EDT
DTSTART:20260308T070000
END:DAYLIGHT
BEGIN:STANDARD
TZOFFSETFROM:-0400
TZOFFSETTO:-0500
TZNAME:EST
DTSTART:20261101T060000
END:STANDARD
END:VTIMEZONE
BEGIN:VEVENT
DTSTART;TZID=America/New_York:20260119T000000
DTEND;TZID=America/New_York:20260120T000000
DTSTAMP:20260425T094641
CREATED:20250720T161452Z
LAST-MODIFIED:20250720T161452Z
UID:3885-1768780800-1768867200@portholepreview.com
SUMMARY:MLK Day - No School
DESCRIPTION:
URL:https://portholepreview.com/schools/englewood/event/mlk-day-no-school/
END:VEVENT
BEGIN:VEVENT
DTSTART;TZID=America/New_York:20260105T000000
DTEND;TZID=America/New_York:20260106T000000
DTSTAMP:20260425T094641
CREATED:20250720T161451Z
LAST-MODIFIED:20250720T161451Z
UID:3884-1767571200-1767657600@portholepreview.com
SUMMARY:Professional Day - No School
DESCRIPTION:
URL:https://portholepreview.com/schools/englewood/event/professional-day-no-school-2/
END:VEVENT
BEGIN:VEVENT
DTSTART;TZID=America/New_York:20251222T000000
DTEND;TZID=America/New_York:20260103T000000
DTSTAMP:20260425T094641
CREATED:20250720T161451Z
LAST-MODIFIED:20250720T161451Z
UID:3883-1766361600-1767398400@portholepreview.com
SUMMARY:Winter Break - No School
DESCRIPTION:
URL:https://portholepreview.com/schools/englewood/event/winter-break-no-school/
END:VEVENT
BEGIN:VEVENT
DTSTART;TZID=America/New_York:20251219T000000
DTEND;TZID=America/New_York:20251220T000000
DTSTAMP:20260425T094641
CREATED:20250720T161451Z
LAST-MODIFIED:20250720T161451Z
UID:3882-1766102400-1766188800@portholepreview.com
SUMMARY:End of the 2nd Quarter
DESCRIPTION:
URL:https://portholepreview.com/schools/englewood/event/end-of-the-2nd-quarter/
END:VEVENT
BEGIN:VEVENT
DTSTART;TZID=America/New_York:20251124T000000
DTEND;TZID=America/New_York:20251129T000000
DTSTAMP:20260425T094641
CREATED:20250720T161450Z
LAST-MODIFIED:20250720T161450Z
UID:3881-1763942400-1764374400@portholepreview.com
SUMMARY:Thanksgiving Break - No School
DESCRIPTION:
URL:https://portholepreview.com/schools/englewood/event/thanksgiving-break-no-school/
END:VEVENT
BEGIN:VEVENT
DTSTART;TZID=America/New_York:20251013T000000
DTEND;TZID=America/New_York:20251014T000000
DTSTAMP:20260425T094641
CREATED:20250720T161449Z
LAST-MODIFIED:20250720T161449Z
UID:3880-1760313600-1760400000@portholepreview.com
SUMMARY:Professional Day - No School
DESCRIPTION:
URL:https://portholepreview.com/schools/englewood/event/professional-day-no-school/
END:VEVENT
BEGIN:VEVENT
DTSTART;TZID=America/New_York:20251010T000000
DTEND;TZID=America/New_York:20251011T000000
DTSTAMP:20260425T094641
CREATED:20250720T161449Z
LAST-MODIFIED:20250720T161449Z
UID:3879-1760054400-1760140800@portholepreview.com
SUMMARY:End of the 1st Quarter
DESCRIPTION:
URL:https://portholepreview.com/schools/englewood/event/end-of-the-1st-quarter/
END:VEVENT
BEGIN:VEVENT
DTSTART;TZID=America/New_York:20250901T000000
DTEND;TZID=America/New_York:20250902T000000
DTSTAMP:20260425T094641
CREATED:20250720T161449Z
LAST-MODIFIED:20250720T161449Z
UID:3878-1756684800-1756771200@portholepreview.com
SUMMARY:No School - Labor Day
DESCRIPTION:
URL:https://portholepreview.com/schools/englewood/event/no-school-labor-day/
END:VEVENT
BEGIN:VEVENT
DTSTART;TZID=America/New_York:20250811T000000
DTEND;TZID=America/New_York:20250812T000000
DTSTAMP:20260425T094641
CREATED:20250720T161449Z
LAST-MODIFIED:20250720T161449Z
UID:3877-1754870400-1754956800@portholepreview.com
SUMMARY:First Day of School
DESCRIPTION:
URL:https://portholepreview.com/schools/englewood/event/first-day-of-school/
END:VEVENT
BEGIN:VEVENT
DTSTART;TZID=America/New_York:20250806T170000
DTEND;TZID=America/New_York:20250806T190000
DTSTAMP:20260425T094641
CREATED:20250720T133921Z
LAST-MODIFIED:20250720T134000Z
UID:3794-1754499600-1754506800@portholepreview.com
SUMMARY:Open House
DESCRIPTION:This would be the event description.
URL:https://portholepreview.com/schools/englewood/event/open-house/
ATTACH;FMTTYPE=image/jpeg:https://portholepreview.com/schools/englewood/wp-content/uploads/2025/07/1-1.jpg
END:VEVENT
END:VCALENDAR